BEGIN:VCALENDAR
VERSION:2.0
PRODID:-//Bachem/Saar - ECPv6.15.13//NONSGML v1.0//EN
CALSCALE:GREGORIAN
METHOD:PUBLISH
X-ORIGINAL-URL:https://bachemsaar.de
X-WR-CALDESC:Veranstaltungen für Bachem/Saar
REFRESH-INTERVAL;VALUE=DURATION:PT1H
X-Robots-Tag:noindex
X-PUBLISHED-TTL:PT1H
BEGIN:VTIMEZONE
TZID:Europe/Berlin
BEGIN:DAYLIGHT
TZOFFSETFROM:+0100
TZOFFSETTO:+0200
TZNAME:CEST
DTSTART:20220327T010000
END:DAYLIGHT
BEGIN:STANDARD
TZOFFSETFROM:+0200
TZOFFSETTO:+0100
TZNAME:CET
DTSTART:20221030T010000
END:STANDARD
BEGIN:DAYLIGHT
TZOFFSETFROM:+0100
TZOFFSETTO:+0200
TZNAME:CEST
DTSTART:20230326T010000
END:DAYLIGHT
BEGIN:STANDARD
TZOFFSETFROM:+0200
TZOFFSETTO:+0100
TZNAME:CET
DTSTART:20231029T010000
END:STANDARD
BEGIN:DAYLIGHT
TZOFFSETFROM:+0100
TZOFFSETTO:+0200
TZNAME:CEST
DTSTART:20240331T010000
END:DAYLIGHT
BEGIN:STANDARD
TZOFFSETFROM:+0200
TZOFFSETTO:+0100
TZNAME:CET
DTSTART:20241027T010000
END:STANDARD
END:VTIMEZONE
BEGIN:VEVENT
DTSTART;TZID=Europe/Berlin:20230716T110000
DTEND;TZID=Europe/Berlin:20230716T220000
DTSTAMP:20260422T212100
CREATED:20230321T134704Z
LAST-MODIFIED:20230321T135558Z
UID:1145-1689505200-1689544800@bachemsaar.de
SUMMARY:Willibrordfest
DESCRIPTION:Patronatsfest an der Kirche
URL:https://bachemsaar.de/event/willibrordfest/
LOCATION:Bachem\, Kirche\, Zum Kammerforst 1\, Losheim am See-Bachem\, Saarland\, 66679\, Deutschland
END:VEVENT
END:VCALENDAR