BEGIN:VCALENDAR
VERSION:2.0
PRODID:-//Bachem/Saar - ECPv6.15.13//NONSGML v1.0//EN
CALSCALE:GREGORIAN
METHOD:PUBLISH
X-ORIGINAL-URL:https://bachemsaar.de
X-WR-CALDESC:Veranstaltungen für Bachem/Saar
REFRESH-INTERVAL;VALUE=DURATION:PT1H
X-Robots-Tag:noindex
X-PUBLISHED-TTL:PT1H
BEGIN:VTIMEZONE
TZID:Europe/Berlin
BEGIN:DAYLIGHT
TZOFFSETFROM:+0100
TZOFFSETTO:+0200
TZNAME:CEST
DTSTART:20220327T010000
END:DAYLIGHT
BEGIN:STANDARD
TZOFFSETFROM:+0200
TZOFFSETTO:+0100
TZNAME:CET
DTSTART:20221030T010000
END:STANDARD
BEGIN:DAYLIGHT
TZOFFSETFROM:+0100
TZOFFSETTO:+0200
TZNAME:CEST
DTSTART:20230326T010000
END:DAYLIGHT
BEGIN:STANDARD
TZOFFSETFROM:+0200
TZOFFSETTO:+0100
TZNAME:CET
DTSTART:20231029T010000
END:STANDARD
BEGIN:DAYLIGHT
TZOFFSETFROM:+0100
TZOFFSETTO:+0200
TZNAME:CEST
DTSTART:20240331T010000
END:DAYLIGHT
BEGIN:STANDARD
TZOFFSETFROM:+0200
TZOFFSETTO:+0100
TZNAME:CET
DTSTART:20241027T010000
END:STANDARD
END:VTIMEZONE
BEGIN:VEVENT
DTSTART;TZID=Europe/Berlin:20231202T150000
DTEND;TZID=Europe/Berlin:20231202T220000
DTSTAMP:20260422T111915
CREATED:20231109T134710Z
LAST-MODIFIED:20231109T134712Z
UID:1261-1701529200-1701554400@bachemsaar.de
SUMMARY:Weihnachtsmarkt
DESCRIPTION:Bachemer Weihnachtsmarkt
URL:https://bachemsaar.de/event/weihnachtsmarkt/
LOCATION:66679 Losheim am See-Bachem\, Quellenstraße\, Quellenstraße\, Losheim am See-Bachem\, 66679\, Deutschland
END:VEVENT
BEGIN:VEVENT
DTSTART;TZID=Europe/Berlin:20231218T170000
DTEND;TZID=Europe/Berlin:20231218T190000
DTSTAMP:20260422T111915
CREATED:20231109T142139Z
LAST-MODIFIED:20231109T142142Z
UID:992-1702918800-1702926000@bachemsaar.de
SUMMARY:DRK Blutspenden
DESCRIPTION:Örtlichkeit: Mehrzweckhalle Bachem
URL:https://bachemsaar.de/event/drk-blutspenden/
LOCATION:Mehrzweckhalle Bachem\, Quellenstraße\, Bachem\, Deutschland
ATTACH;FMTTYPE=image/png:https://bachemsaar.de/wp-content/uploads/2022/06/Download.png
END:VEVENT
END:VCALENDAR